BEGIN:VCALENDAR
VERSION:2.0
PRODID:-//Dickinson//NONSGML v1.0//EN
CALSCALE:GREGORIAN
BEGIN:VEVENT
DTEND:20251122T040000Z
UID:69ea57caa508d
DTSTAMP:20260423T173258Z
LOCATION:6977
DESCRIPTION:http://www.dickinson.edu/events/event/30296/\n\nopening night party
URL;VALUE=URI:http://www.dickinson.edu/events/event/30296/
SUMMARY:Dance show opening night party
DTSTART:20251122T020000Z
END:VEVENT
END:VCALENDAR