BEGIN:VCALENDAR
VERSION:2.0
PRODID:-//Dickinson//NONSGML v1.0//EN
CALSCALE:GREGORIAN
BEGIN:VEVENT
DTEND:20250914T010000Z
UID:69ea57bfc6dca
DTSTAMP:20260423T173247Z
LOCATION:2323
DESCRIPTION:http://www.dickinson.edu/events/event/30243/\n\nCome join us to play badminton!
URL;VALUE=URI:http://www.dickinson.edu/events/event/30243/
SUMMARY:Weekly Badminton Training 
DTSTART:20250913T230000Z
END:VEVENT
END:VCALENDAR