BEGIN:VCALENDAR
VERSION:2.0
PRODID:-//Dickinson//NONSGML v1.0//EN
CALSCALE:GREGORIAN
BEGIN:VEVENT
DTEND:20250907T020000Z
UID:69ea57ca93609
DTSTAMP:20260423T173258Z
LOCATION:2824
DESCRIPTION:http://www.dickinson.edu/events/event/30111/\n\nWe play Magic the Gathering
URL;VALUE=URI:http://www.dickinson.edu/events/event/30111/
SUMMARY:Weekly Meeting
DTSTART:20250906T220000Z
END:VEVENT
END:VCALENDAR