BEGIN:VCALENDAR
VERSION:2.0
PRODID:-//Dickinson//NONSGML v1.0//EN
CALSCALE:GREGORIAN
BEGIN:VEVENT
DTEND:20251207T223000Z
UID:69ea881c8433e
DTSTAMP:20260423T205908Z
LOCATION:16
DESCRIPTION:http://www.dickinson.edu/events/event/30031/\n\nThis program takes the metaphor of gathering––to harvest\; to assemble\; to collect oneself––as a musical opportunity to consider what communities need to find their footing in the face of uncertainty. 
URL;VALUE=URI:http://www.dickinson.edu/events/event/30031/
SUMMARY:The Dickinson College Choir Presents Sound Gatherings
DTSTART:20251207T210000Z
END:VEVENT
END:VCALENDAR