BEGIN:VCALENDAR
VERSION:2.0
PRODID:-//Dickinson//NONSGML v1.0//EN
CALSCALE:GREGORIAN
BEGIN:VEVENT
DTEND:20250906T200000Z
UID:69ed2a9be47a2
DTSTAMP:20260425T205659Z
LOCATION:6908
DESCRIPTION:http://www.dickinson.edu/events/event/30013/\n\nCome support the women's soccer team in their home opener against Bridgewater. Go Red Devils!
URL;VALUE=URI:http://www.dickinson.edu/events/event/30013/
SUMMARY:Women's Soccer
DTSTART:20250906T180000Z
END:VEVENT
END:VCALENDAR