BEGIN:VCALENDAR
VERSION:2.0
PRODID:-//Dickinson//NONSGML v1.0//EN
CALSCALE:GREGORIAN
BEGIN:VEVENT
DTEND:20251207T190000Z
UID:69ea880624d84
DTSTAMP:20260423T205846Z
LOCATION:115
DESCRIPTION:http://www.dickinson.edu/events/event/29954/\n\nFormal 
URL;VALUE=URI:http://www.dickinson.edu/events/event/29954/
SUMMARY:Kappa Alpha Theta Formal 
DTSTART:20251207T130000Z
END:VEVENT
END:VCALENDAR