BEGIN:VCALENDAR
VERSION:2.0
PRODID:-//Dickinson//NONSGML v1.0//EN
CALSCALE:GREGORIAN
BEGIN:VEVENT
DTEND:20251028T010000Z
UID:69ea6fddd0e44
DTSTAMP:20260423T191541Z
LOCATION:50
DESCRIPTION:http://www.dickinson.edu/events/event/29889/\n\nReflecting on the past decade of change and the road ahead\, this event celebrates a pivotal moment in LGBTQ+ civil rights and Dickinson’s role in shaping that history.
URL;VALUE=URI:http://www.dickinson.edu/events/event/29889/
SUMMARY:Landmark Progress: 10 Years of Marriage Equality in the United States
DTSTART:20251027T220000Z
END:VEVENT
END:VCALENDAR