BEGIN:VCALENDAR
VERSION:2.0
PRODID:-//Dickinson//NONSGML v1.0//EN
CALSCALE:GREGORIAN
BEGIN:VEVENT
DTEND:20250909T003000Z
UID:69ecf800bfe8d
DTSTAMP:20260425T172104Z
LOCATION:21
DESCRIPTION:http://www.dickinson.edu/events/event/29888/\n\nThe Dickinson College Democrats and CADC invite you to join a conversation with invited guests on strategies for strengthening our Democracy
URL;VALUE=URI:http://www.dickinson.edu/events/event/29888/
SUMMARY:Dining for Democracy
DTSTART:20250908T220000Z
END:VEVENT
END:VCALENDAR