BEGIN:VCALENDAR
VERSION:2.0
PRODID:-//Dickinson//NONSGML v1.0//EN
CALSCALE:GREGORIAN
BEGIN:VEVENT
DTEND:20250908T170000Z
UID:69ea6fddc7fc8
DTSTAMP:20260423T191541Z
LOCATION:35
DESCRIPTION:http://www.dickinson.edu/events/event/29712/\n\nInstructor: Nancy Button
URL;VALUE=URI:http://www.dickinson.edu/events/event/29712/
SUMMARY:Gentle Yoga
DTSTART:20250908T160000Z
END:VEVENT
END:VCALENDAR