BEGIN:VCALENDAR
VERSION:2.0
PRODID:-//Dickinson//NONSGML v1.0//EN
CALSCALE:GREGORIAN
BEGIN:VEVENT
DTEND:20250907T220000Z
UID:69ea881c92032
DTSTAMP:20260423T205908Z
LOCATION:770
DESCRIPTION:http://www.dickinson.edu/events/event/29653/\n\nWeekly Exec Board Meeting
URL;VALUE=URI:http://www.dickinson.edu/events/event/29653/
SUMMARY:Kappa Alpha Theta Exec Meeting 
DTSTART:20250907T210000Z
END:VEVENT
END:VCALENDAR