BEGIN:VCALENDAR
VERSION:2.0
PRODID:-//Dickinson//NONSGML v1.0//EN
CALSCALE:GREGORIAN
BEGIN:VEVENT
DTEND:20251028T020000Z
UID:69ea6fddc4e63
DTSTAMP:20260423T191541Z
LOCATION:6882
DESCRIPTION:http://www.dickinson.edu/events/event/29638/\n\nJoin us for our weekly community gathering! 
URL;VALUE=URI:http://www.dickinson.edu/events/event/29638/
SUMMARY:Revive
DTSTART:20251027T233000Z
END:VEVENT
END:VCALENDAR