BEGIN:VCALENDAR
VERSION:2.0
PRODID:-//Dickinson//NONSGML v1.0//EN
CALSCALE:GREGORIAN
BEGIN:VEVENT
DTEND:20260423T230000Z
UID:69eaad3ae7c71
DTSTAMP:20260423T233730Z
LOCATION:339
DESCRIPTION:http://www.dickinson.edu/events/event/29347/\n\nCCLA's End of Year Celebration with students\, faculty\, and community partners.
URL;VALUE=URI:http://www.dickinson.edu/events/event/29347/
SUMMARY:End of Year Celebration CCLA
DTSTART:20260423T210000Z
END:VEVENT
END:VCALENDAR