BEGIN:VCALENDAR
VERSION:2.0
PRODID:-//Dickinson//NONSGML v1.0//EN
CALSCALE:GREGORIAN
BEGIN:VEVENT
DTEND:20250318T010000Z
UID:69eceee0ec97f
DTSTAMP:20260425T164208Z
LOCATION:860
DESCRIPTION:http://www.dickinson.edu/events/event/28677/\n\nJoin us for a screening of the Peabody Award-winning film\, The Rebellious Life of Mrs. Rosa Parks. 
URL;VALUE=URI:http://www.dickinson.edu/events/event/28677/
SUMMARY:"The Rebellious Life of Mrs. Rosa Parks" -- documentary film screening and Q&A with Professor Jeanne Theoharis
DTSTART:20250317T223000Z
END:VEVENT
END:VCALENDAR