BEGIN:VCALENDAR
VERSION:2.0
PRODID:-//Dickinson//NONSGML v1.0//EN
CALSCALE:GREGORIAN
BEGIN:VEVENT
DTEND:20250318T163000Z
UID:69e629b88f161
DTSTAMP:20260420T132720Z
LOCATION:133
DESCRIPTION:http://www.dickinson.edu/events/event/28623/\n\nWant to learn more about the Food Studies Certificate at Dickinson? 
URL;VALUE=URI:http://www.dickinson.edu/events/event/28623/
SUMMARY:Food Studies Certificate Program: 30-minute Info Session!
DTSTART:20250318T160000Z
END:VEVENT
END:VCALENDAR