BEGIN:VCALENDAR
VERSION:2.0
PRODID:-//Dickinson//NONSGML v1.0//EN
CALSCALE:GREGORIAN
BEGIN:VEVENT
DTEND:20250211T180000Z
UID:69ea57bfd8bba
DTSTAMP:20260423T173247Z
LOCATION:1813
DESCRIPTION:http://www.dickinson.edu/events/event/28355/\n\nStudents who are interested in studying abroad with the Dickinson in France program should attend this information session.  
URL;VALUE=URI:http://www.dickinson.edu/events/event/28355/
SUMMARY:Dickinson in France Information Session
DTSTART:20250211T170000Z
END:VEVENT
END:VCALENDAR