BEGIN:VCALENDAR
VERSION:2.0
PRODID:-//Dickinson//NONSGML v1.0//EN
CALSCALE:GREGORIAN
BEGIN:VEVENT
DTEND:20250205T180000Z
UID:69e5ae9218183
DTSTAMP:20260420T044154Z
LOCATION:6659
DESCRIPTION:http://www.dickinson.edu/events/event/28335/\n\nThis workshop will introduce participants to using pivot tables in Microsoft Excel. 
URL;VALUE=URI:http://www.dickinson.edu/events/event/28335/
SUMMARY:Introduction to Pivot Tables
DTSTART:20250205T170000Z
END:VEVENT
END:VCALENDAR