BEGIN:VCALENDAR
VERSION:2.0
PRODID:-//Dickinson//NONSGML v1.0//EN
CALSCALE:GREGORIAN
BEGIN:VEVENT
DTEND:20250208T020000Z
UID:69e933e4f0a45
DTSTAMP:20260422T204732Z
LOCATION:6601
DESCRIPTION:http://www.dickinson.edu/events/event/27907/\n\nJoin us for a special alumni gathering in scenic Vail\, where old friends and new connections come together in the heart of the Rockies.
URL;VALUE=URI:http://www.dickinson.edu/events/event/27907/
SUMMARY:Dickinson in Vail\, Colo.
DTSTART:20250207T230000Z
END:VEVENT
END:VCALENDAR