BEGIN:VCALENDAR
VERSION:2.0
PRODID:-//Dickinson//NONSGML v1.0//EN
CALSCALE:GREGORIAN
BEGIN:VEVENT
DTEND:20250323T190000Z
UID:69e5a4a1711aa
DTSTAMP:20260420T035929Z
LOCATION:1557
DESCRIPTION:http://www.dickinson.edu/events/event/27667/\n\nPlease join us as we celebrate Catholic mass.  Sunday 2PM - Allison Interfaith chapel.  All are welcome. 
URL;VALUE=URI:http://www.dickinson.edu/events/event/27667/
SUMMARY:Catholic Mass
DTSTART:20250323T180000Z
END:VEVENT
END:VCALENDAR