BEGIN:VCALENDAR
VERSION:2.0
PRODID:-//Dickinson//NONSGML v1.0//EN
CALSCALE:GREGORIAN
BEGIN:VEVENT
DTEND:20241122T181500Z
UID:69e63bd2a6306
DTSTAMP:20260420T144434Z
LOCATION:52
DESCRIPTION:http://www.dickinson.edu/events/event/27570/\n\nThis talk is free and open to the public\, and pizza will be served. 
URL;VALUE=URI:http://www.dickinson.edu/events/event/27570/
SUMMARY:Talk\, "Trade and Multiculturalism in the Medieval Persian Gulf" with Prof. Brian Ulrich\, Shippensburg University
DTSTART:20241122T170000Z
END:VEVENT
END:VCALENDAR