BEGIN:VCALENDAR
VERSION:2.0
PRODID:-//Dickinson//NONSGML v1.0//EN
CALSCALE:GREGORIAN
BEGIN:VEVENT
DTEND:20241016T233000Z
UID:69e72f2c24a86
DTSTAMP:20260421T080252Z
LOCATION:59
DESCRIPTION:http://www.dickinson.edu/events/event/27382/\n\nWe will be joining together to phone bank for the Patty Kim for State Senate campaign.
URL;VALUE=URI:http://www.dickinson.edu/events/event/27382/
SUMMARY:Phone banking for Patty Kim
DTSTART:20241016T213000Z
END:VEVENT
END:VCALENDAR