BEGIN:VCALENDAR
VERSION:2.0
PRODID:-//Dickinson//NONSGML v1.0//EN
CALSCALE:GREGORIAN
BEGIN:VEVENT
DTEND:20241010T230000Z
UID:69e8d49ac3838
DTSTAMP:20260422T140058Z
LOCATION:219
DESCRIPTION:http://www.dickinson.edu/events/event/27212/\n\nCome discuss campus issues and the club's future actions!
URL;VALUE=URI:http://www.dickinson.edu/events/event/27212/
SUMMARY:Workers Party General Meeting
DTSTART:20241010T220000Z
END:VEVENT
END:VCALENDAR