BEGIN:VCALENDAR
VERSION:2.0
PRODID:-//Dickinson//NONSGML v1.0//EN
CALSCALE:GREGORIAN
BEGIN:VEVENT
DTEND:20241011T170000Z
UID:69eb528a531bf
DTSTAMP:20260424T112250Z
LOCATION:6436
DESCRIPTION:http://www.dickinson.edu/events/event/27199/\n\nJoin Creative Writing at the Hartman House for conversation and coffee. 
URL;VALUE=URI:http://www.dickinson.edu/events/event/27199/
SUMMARY:Join Creative Writing at the Hartman House
DTSTART:20241011T140000Z
END:VEVENT
END:VCALENDAR