BEGIN:VCALENDAR
VERSION:2.0
PRODID:-//Dickinson//NONSGML v1.0//EN
CALSCALE:GREGORIAN
BEGIN:VEVENT
DTEND:20241026T000000Z
UID:69e86f4b1a3bf
DTSTAMP:20260422T064843Z
LOCATION:860
DESCRIPTION:http://www.dickinson.edu/events/event/27150/\n\nRun with it! Comedy improv show.
URL;VALUE=URI:http://www.dickinson.edu/events/event/27150/
SUMMARY:Run with it! Show
DTSTART:20241025T230000Z
END:VEVENT
END:VCALENDAR