BEGIN:VCALENDAR
VERSION:2.0
PRODID:-//Dickinson//NONSGML v1.0//EN
CALSCALE:GREGORIAN
BEGIN:VEVENT
DTEND:20241008T170000Z
UID:69e81cca37ef1
DTSTAMP:20260422T005642Z
LOCATION:6414
DESCRIPTION:http://www.dickinson.edu/events/event/27127/\n\nCheck-in event with Professor Zhu \, see ranking to date\, common mistakes\, general Q&A and career center presentation about how to utilize this experience in your job search. Snacks provided.
URL;VALUE=URI:http://www.dickinson.edu/events/event/27127/
SUMMARY:Investment Competition Mid-Point Check-In
DTSTART:20241008T160000Z
END:VEVENT
END:VCALENDAR