BEGIN:VCALENDAR
VERSION:2.0
PRODID:-//Dickinson//NONSGML v1.0//EN
CALSCALE:GREGORIAN
BEGIN:VEVENT
DTEND:20240916T230000Z
UID:69e8a05c571ed
DTSTAMP:20260422T101804Z
LOCATION:19
DESCRIPTION:http://www.dickinson.edu/events/event/26941/\n\nJoin the brothers of Alpha Phi Omega to learn more about membership and getting involved with community service this semester! 
URL;VALUE=URI:http://www.dickinson.edu/events/event/26941/
SUMMARY:APO New Member Interest Meeting
DTSTART:20240916T223000Z
END:VEVENT
END:VCALENDAR