BEGIN:VCALENDAR
VERSION:2.0
PRODID:-//Dickinson//NONSGML v1.0//EN
CALSCALE:GREGORIAN
BEGIN:VEVENT
DTEND:20241025T233000Z
UID:69e8f12b02c8f
DTSTAMP:20260422T160251Z
LOCATION:6197
DESCRIPTION:http://www.dickinson.edu/events/event/26847/\n\nCome have a meaningful shabbat and join us for services. Services are mostly student lead.
URL;VALUE=URI:http://www.dickinson.edu/events/event/26847/
SUMMARY:Shabbat services
DTSTART:20241025T223000Z
END:VEVENT
END:VCALENDAR