BEGIN:VCALENDAR
VERSION:2.0
PRODID:-//Dickinson//NONSGML v1.0//EN
CALSCALE:GREGORIAN
BEGIN:VEVENT
DTEND:20241212T013000Z
UID:69e8094eabb5d
DTSTAMP:20260421T233334Z
LOCATION:56
DESCRIPTION:http://www.dickinson.edu/events/event/26749/\n\nHosted by Dickinson Christian Fellowship\, Dickinson Catholic Campus Ministry\, Center for Spirituality and Social Justice\, Orthodox Christian Fellowship.
URL;VALUE=URI:http://www.dickinson.edu/events/event/26749/
SUMMARY:Gather Us In
DTSTART:20241212T000000Z
END:VEVENT
END:VCALENDAR