BEGIN:VCALENDAR
VERSION:2.0
PRODID:-//Dickinson//NONSGML v1.0//EN
CALSCALE:GREGORIAN
BEGIN:VEVENT
DTEND:20240916T211500Z
UID:69e6fa58e45c4
DTSTAMP:20260421T041728Z
LOCATION:2821
DESCRIPTION:http://www.dickinson.edu/events/event/26668/\n\nIn this session\, you’ll learn key tips for highlighting your strengths\, tailoring your resume to different roles\, and avoiding common mistakes.
URL;VALUE=URI:http://www.dickinson.edu/events/event/26668/
SUMMARY:Resumes Simplified: Mastering the Art of Self-Promotion
DTSTART:20240916T203000Z
END:VEVENT
END:VCALENDAR