BEGIN:VCALENDAR
VERSION:2.0
PRODID:-//Dickinson//NONSGML v1.0//EN
CALSCALE:GREGORIAN
BEGIN:VEVENT
DTEND:20241207T013000Z
UID:69e95aa43e81c
DTSTAMP:20260422T233252Z
LOCATION:6241
DESCRIPTION:http://www.dickinson.edu/events/event/25966/\n\nDon't miss the Dickinson Orchestra's fall 2024 concert.
URL;VALUE=URI:http://www.dickinson.edu/events/event/25966/
SUMMARY:Orchestra Concert
DTSTART:20241207T000000Z
END:VEVENT
END:VCALENDAR