BEGIN:VCALENDAR
VERSION:2.0
PRODID:-//Dickinson//NONSGML v1.0//EN
CALSCALE:GREGORIAN
BEGIN:VEVENT
DTEND:20240501T173000Z
UID:69ed818d5b244
DTSTAMP:20260426T030757Z
LOCATION:860
DESCRIPTION:http://www.dickinson.edu/events/event/25331/\n\nCome hear from students who participated in the recent Mosaic experience in Italy. 
URL;VALUE=URI:http://www.dickinson.edu/events/event/25331/
SUMMARY:Fashioning the Body\, Shaping the Nation
DTSTART:20240501T160000Z
END:VEVENT
END:VCALENDAR