BEGIN:VCALENDAR
VERSION:2.0
PRODID:-//Dickinson//NONSGML v1.0//EN
CALSCALE:GREGORIAN
BEGIN:VEVENT
DTEND:20240405T190000Z
UID:69e5bc82a8fa4
DTSTAMP:20260420T054122Z
LOCATION:6108
DESCRIPTION:http://www.dickinson.edu/events/event/25175/\n\nAccepted students explore Dickinson with an individualized schedule tailored to their interests.  
URL;VALUE=URI:http://www.dickinson.edu/events/event/25175/
SUMMARY:Decision Dickinson: Day in the Life 
DTSTART:20240405T120000Z
END:VEVENT
END:VCALENDAR