BEGIN:VCALENDAR
VERSION:2.0
PRODID:-//Dickinson//NONSGML v1.0//EN
CALSCALE:GREGORIAN
BEGIN:VEVENT
DTEND:20240425T171500Z
UID:69ea0c33ce2d9
DTSTAMP:20260423T121027Z
LOCATION:6084
DESCRIPTION:http://www.dickinson.edu/events/event/25088/\n\nJoin Trout Gallery educators and student interns for a tour of the Senior Studio Art Exhibition\, BYOE: Bring Your Own Everything.
URL;VALUE=URI:http://www.dickinson.edu/events/event/25088/
SUMMARY:Lunch and Paint at The Trout Gallery
DTSTART:20240425T160000Z
END:VEVENT
END:VCALENDAR