BEGIN:VCALENDAR
VERSION:2.0
PRODID:-//Dickinson//NONSGML v1.0//EN
CALSCALE:GREGORIAN
BEGIN:VEVENT
DTEND:20240328T010000Z
UID:69e9f97e6f65f
DTSTAMP:20260423T105038Z
LOCATION:4
DESCRIPTION:http://www.dickinson.edu/events/event/24926/\n\nDickinson's own Renaissance Faire! Join Shakespeare's club for an evening of Shakespeare-themed crafts\, trivia\, games\, and some tasty treats!
URL;VALUE=URI:http://www.dickinson.edu/events/event/24926/
SUMMARY:Shakespeare Salon
DTSTART:20240327T230000Z
END:VEVENT
END:VCALENDAR