BEGIN:VCALENDAR
VERSION:2.0
PRODID:-//Dickinson//NONSGML v1.0//EN
CALSCALE:GREGORIAN
BEGIN:VEVENT
DTEND:20240328T003000Z
UID:69e9e77543e03
DTSTAMP:20260423T093341Z
LOCATION:512
DESCRIPTION:http://www.dickinson.edu/events/event/24118/\n\nHera Society Speakers 
URL;VALUE=URI:http://www.dickinson.edu/events/event/24118/
SUMMARY:HERAspirations Conference on March 27 
DTSTART:20240327T233000Z
END:VEVENT
END:VCALENDAR