BEGIN:VCALENDAR
VERSION:2.0
PRODID:-//Dickinson//NONSGML v1.0//EN
CALSCALE:GREGORIAN
BEGIN:VEVENT
DTEND:20240319T170000Z
UID:69e57bfc375c5
DTSTAMP:20260420T010604Z
LOCATION:35
DESCRIPTION:http://www.dickinson.edu/events/event/24049/\n\nInstructor: Jenni Moore
URL;VALUE=URI:http://www.dickinson.edu/events/event/24049/
SUMMARY:Cardio Fusion
DTSTART:20240319T160000Z
END:VEVENT
END:VCALENDAR