BEGIN:VCALENDAR
VERSION:2.0
PRODID:-//Dickinson//NONSGML v1.0//EN
CALSCALE:GREGORIAN
BEGIN:VEVENT
DTEND:20240321T170000Z
UID:69e4e5a9b7da4
DTSTAMP:20260419T142441Z
LOCATION:6
DESCRIPTION:http://www.dickinson.edu/events/event/23755/\n\nCome visit us at our table on Thursday\, March 21 from 12-1 p.m. in the lower level of the HUB to learn more about CCLA events and upcoming opportunities!
URL;VALUE=URI:http://www.dickinson.edu/events/event/23755/
SUMMARY:CCLA Information Table
DTSTART:20240321T160000Z
END:VEVENT
END:VCALENDAR